BEGIN:VCALENDAR
VERSION:2.0
PRODID:Imitheme.com 
BEGIN:VEVENT
UID:20260426T0248491894582355
DTSTAMP;TZID=UTC:20260426T024849
DTSTART;TZID=UTC:20261215T024800
DTEND;TZID=UTC:20261215T024800
SUMMARY:Gottesdienst mit Pfr. Johannes Wittich und Sascha Skwortz
LOCATION:
DESCRIPTION:[caption id=\"attachment_3702\" align=\"alignnone\" width=\"225\"] Johannes Wittich[/caption] mit Pfr. Johannes Wittich und Sascha Skwortz GastgeberIn\: Marta Dvořáková OrganistIn\: Martin A. Seidl Gemeindekaffee\: Kein Gemeindekaffee &nbsp\;
END:VEVENT
END:VCALENDAR
