BEGIN:VCALENDAR
VERSION:2.0
PRODID:Imitheme.com 
BEGIN:VEVENT
UID:20260426T0248381655350492
DTSTAMP;TZID=UTC:20260426T024838
DTSTART;TZID=UTC:20261215T024800
DTEND;TZID=UTC:20261215T024800
SUMMARY:Presbyteriumssitzung
LOCATION:
DESCRIPTION:&nbsp\; Presbyteriumssitzung &nbsp\;
END:VEVENT
END:VCALENDAR
