BEGIN:VCALENDAR
VERSION:2.0
PRODID:Imitheme.com 
BEGIN:VEVENT
UID:20260426T0247442133735066
DTSTAMP;TZID=UTC:20260426T024744
DTSTART;TZID=UTC:20261215T024700
DTEND;TZID=UTC:20261215T024700
SUMMARY:Interreligiöses Dialogtreffen / online
LOCATION:
DESCRIPTION:&nbsp\; Die MA17 Süd für Integration und Diversität ladet Sie herzlich zum Interreligiösen Dialogtreffen ein.
END:VEVENT
END:VCALENDAR
