BEGIN:VCALENDAR
VERSION:2.0
PRODID:Imitheme.com 
BEGIN:VEVENT
UID:20260426T0248382013895090
DTSTAMP;TZID=UTC:20260426T024838
DTSTART;TZID=UTC:20261215T024800
DTEND;TZID=UTC:20261215T024800
SUMMARY:Gottesdienst mit Pfr. Johannes Wittich & Team\, Konfirmandinen-Präsentation
LOCATION:
DESCRIPTION:[caption id=\"attachment_3702\" align=\"alignnone\" width=\"225\"] Johannes Wittich[/caption] mit Pfr. Johannes Wittich &amp\; Team\, Konfirmandinen-Präsentation GastgeberIn\: Gerti Seper OrganistIn\: Martin A. Seidl Gemeindekaffee\: Kein Gemeindekaffee &nbsp\;
END:VEVENT
END:VCALENDAR
