BEGIN:VCALENDAR
VERSION:2.0
PRODID:Imitheme.com 
BEGIN:VEVENT
UID:20260426T0248501665045113
DTSTAMP;TZID=UTC:20260426T024850
DTSTART;TZID=UTC:20261215T024800
DTEND;TZID=UTC:20261215T024800
SUMMARY:Gottesdienst mit Pfr. Andreas Fasching\, Kanzeltauschgottesdienst\, gleichzeitig “Kindergottesdienst to go” (Kindergottesdienst-Packerl werden mit der Post verschickt oder im Helmut-Zilk-Park abgegeben.)
LOCATION:
DESCRIPTION:mit Pfr. Andreas Fasching\, Kanzeltauschgottesdienst\, gleichzeitig “Kindergottesdienst to go” (Kindergottesdienst-Packerl werden mit der Post verschickt oder am Sonntag\, den 13. Juni 2021\, um 10 Uhr im Helmut-Zilk-Park in 1100 Wien (bei der Straßenbahnstation Hlawkagasse) übergeben.) Bitte unbedingt in der Pfarrkanzlei unter 01-6042286 oder per Mail an hb-wiensued@evang.at melden\, wenn ihr...
END:VEVENT
END:VCALENDAR
