BEGIN:VCALENDAR
VERSION:2.0
PRODID:Imitheme.com 
BEGIN:VEVENT
UID:20260426T0248491681914767
DTSTAMP;TZID=UTC:20260426T024849
DTSTART;TZID=UTC:20261215T024800
DTEND;TZID=UTC:20261215T024800
SUMMARY:Gottesdienst mit Pfr.i.R. Johann Ulreich
LOCATION:
DESCRIPTION:[caption id=\"attachment_2243\" align=\"alignnone\" width=\"221\"] Johann Ulreich[/caption] mit Pfr.i.R. Johann Ulreich GastgeberIn\: Sascha Skwortz OrganistIn\: J. Schleehahn Gemeindekaffee\: Kein Gemeindekaffee &nbsp\;
END:VEVENT
END:VCALENDAR
