BEGIN:VCALENDAR
VERSION:2.0
PRODID:Imitheme.com 
BEGIN:VEVENT
UID:20260426T022303919360649
DTSTAMP;TZID=UTC:20260426T022303
DTSTART;TZID=UTC:20261215T022300
DTEND;TZID=UTC:20261215T022300
SUMMARY:Presbyteriumssitzung
LOCATION:
DESCRIPTION:&nbsp\; Presbyteriumssitzung &nbsp\;
END:VEVENT
END:VCALENDAR
