BEGIN:VCALENDAR
VERSION:2.0
PRODID:Imitheme.com 
BEGIN:VEVENT
UID:20260426T022144564486126
DTSTAMP;TZID=UTC:20260426T022144
DTSTART;TZID=UTC:20261215T022100
DTEND;TZID=UTC:20261215T022100
SUMMARY:Zoom-Andacht zur Osternacht mit Pfr. Johannes Wittich\, mit Online-Abendmahl\, Karsamstag
LOCATION:
DESCRIPTION:[caption id=\"attachment_3702\" align=\"alignnone\" width=\"225\"] Johannes Wittich[/caption] mit Pfr. Johannes Wittich\, mit Online-Abendmahl\, Karsamstag &nbsp\;
END:VEVENT
END:VCALENDAR
