BEGIN:VCALENDAR
VERSION:2.0
PRODID:Imitheme.com 
BEGIN:VEVENT
UID:20260426T022308709934416
DTSTAMP;TZID=UTC:20260426T022308
DTSTART;TZID=UTC:20261215T022300
DTEND;TZID=UTC:20261215T022300
SUMMARY:Gottesdienst mit Pfr. Johannes Wittich\, Karfreitag
LOCATION:
DESCRIPTION:[caption id=\"attachment_3702\" align=\"alignnone\" width=\"225\"] Johannes Wittich[/caption] mit Pfr. Johannes Wittich\, Karfreitag GastgeberIn\: Jolana Antal OrganistIn\: Juliane Schleehahn Gemeindekaffee\: Kein Gemeindekaffee &nbsp\;
END:VEVENT
END:VCALENDAR
