BEGIN:VCALENDAR
VERSION:2.0
PRODID:Imitheme.com 
BEGIN:VEVENT
UID:20260426T022303311264575
DTSTAMP;TZID=UTC:20260426T022303
DTSTART;TZID=UTC:20261215T022300
DTEND;TZID=UTC:20261215T022300
SUMMARY:Ökumenischen Gottesdienst der christlichen Gemeinden in Favoriten in der Weltgebetswoche  für die Einheit der Christen / abgesagt
LOCATION:
DESCRIPTION:&nbsp\; Einladung zum Ökumenischen Gottesdienst der christlichen Gemeinden in Favoriten in der Weltgebetswoche für die Einheit der Christen Samstag\, dem 15. Mai um 18 Uhr. Syrisch-Orthodoxe Pfarrgemeinde MorEphrem Stefan-Fadinger-Platz 1\, 1100 Wien Abgesagt &nbsp\; &nbsp\;
END:VEVENT
END:VCALENDAR
