BEGIN:VCALENDAR
VERSION:2.0
PRODID:Imitheme.com 
BEGIN:VEVENT
UID:20260426T022059116155051
DTSTAMP;TZID=UTC:20260426T022059
DTSTART;TZID=UTC:20261215T022000
DTEND;TZID=UTC:20261215T022000
SUMMARY:Penguin’s Club\, Ersatz für das Wochenende am Schacherhof / online
LOCATION:
DESCRIPTION:Penguin’s Club\: Ersatz für das Wochenende am Schacherhof - wir gestalten einen Gottesdienst  &nbsp\;
END:VEVENT
END:VCALENDAR
