BEGIN:VCALENDAR
VERSION:2.0
PRODID:Imitheme.com 
BEGIN:VEVENT
UID:20260426T0223181646418004
DTSTAMP;TZID=UTC:20260426T022318
DTSTART;TZID=UTC:20261215T022300
DTEND;TZID=UTC:20261215T022300
SUMMARY:Penguin’s Club\, Gelebte Religion am Friedhof
LOCATION:
DESCRIPTION:Penguin’s Club\: Thema\: Gelebte Religion am Friedhof &nbsp\;
END:VEVENT
END:VCALENDAR
