BEGIN:VCALENDAR
VERSION:2.0
PRODID:Imitheme.com 
BEGIN:VEVENT
UID:20260426T02214420484491
DTSTAMP;TZID=UTC:20260426T022144
DTSTART;TZID=UTC:20261215T022100
DTEND;TZID=UTC:20261215T022100
SUMMARY:Penguin’s Club\, 1. PC danach
LOCATION:
DESCRIPTION:Penguin’s Club\: Thema\: 1. PC danach &nbsp\;
END:VEVENT
END:VCALENDAR
