BEGIN:VCALENDAR
VERSION:2.0
PRODID:Imitheme.com 
BEGIN:VEVENT
UID:20260426T0223091992718743
DTSTAMP;TZID=UTC:20260426T022309
DTSTART;TZID=UTC:20261215T022300
DTEND;TZID=UTC:20261215T022300
SUMMARY:Penguin’s Club\, Sekten / online
LOCATION:
DESCRIPTION:Penguin’s Club\: Thema\: Sekten &nbsp\;
END:VEVENT
END:VCALENDAR
