BEGIN:VCALENDAR
VERSION:2.0
PRODID:Imitheme.com 
BEGIN:VEVENT
UID:20260426T010036883145192
DTSTAMP;TZID=UTC:20260426T010036
DTSTART;TZID=UTC:20261215T010000
DTEND;TZID=UTC:20261215T010000
SUMMARY:Frauen-Bibelgespräche / ABGESAGT!
LOCATION:
DESCRIPTION:ABGESAGT! Dienstags\, um 16 Uhr im Gemeindesaal. Wir beschäftigen uns mit Grundfragen des Glaubens. Herzliche Einladung! &nbsp\;
END:VEVENT
END:VCALENDAR
