BEGIN:VCALENDAR
VERSION:2.0
PRODID:Imitheme.com 
BEGIN:VEVENT
UID:20260426T0222031636266273
DTSTAMP;TZID=UTC:20260426T022203
DTSTART;TZID=UTC:20261215T022200
DTEND;TZID=UTC:20261215T022200
SUMMARY:Presbyteriumssitzung / online
LOCATION:
DESCRIPTION:&nbsp\; Presbyteriumssitzung &nbsp\;
END:VEVENT
END:VCALENDAR
