BEGIN:VCALENDAR
VERSION:2.0
PRODID:Imitheme.com 
BEGIN:VEVENT
UID:20260426T021957665435795
DTSTAMP;TZID=UTC:20260426T021957
DTSTART;TZID=UTC:20261215T021900
DTEND;TZID=UTC:20261215T021900
SUMMARY:Synode HB / online
LOCATION:
DESCRIPTION:Synode HB &nbsp\;
END:VEVENT
END:VCALENDAR
