BEGIN:VCALENDAR
VERSION:2.0
PRODID:Imitheme.com 
BEGIN:VEVENT
UID:20260426T0235551776711412
DTSTAMP;TZID=UTC:20260426T023555
DTSTART;TZID=UTC:20261215T023500
DTEND;TZID=UTC:20261215T023500
SUMMARY:Gottesdienst mit Pfr. Johannes Wittich
LOCATION:
DESCRIPTION:[caption id=\"attachment_3702\" align=\"alignnone\" width=\"225\"] Johannes Wittich[/caption] mit Pfr. Johannes Wittich GastgeberIn\: Jolana Antal OrganistIn\: Martin A. Seidl Gemeindekaffee\: Kein Gemeindekaffee &nbsp\;
END:VEVENT
END:VCALENDAR
