BEGIN:VCALENDAR
VERSION:2.0
PRODID:Imitheme.com 
BEGIN:VEVENT
UID:20260426T010058532940053
DTSTAMP;TZID=UTC:20260426T010058
DTSTART;TZID=UTC:20261215T010000
DTEND;TZID=UTC:20261215T010000
SUMMARY:Gottesdienst mit Dr. Ulrich Körtner
LOCATION:
DESCRIPTION:mit Dr. Ulrich Körtner GastgeberIn\: Franz Radner OrganistIn\: Martin A. Seidl Gemeindekaffee\: Kein Gemeindekaffee &nbsp\;
END:VEVENT
END:VCALENDAR
