BEGIN:VCALENDAR
VERSION:2.0
PRODID:Imitheme.com 
BEGIN:VEVENT
UID:20260426T0059271219921651
DTSTAMP;TZID=UTC:20260426T005927
DTSTART;TZID=UTC:20261215T005900
DTEND;TZID=UTC:20261215T005900
SUMMARY:Gottesdienst mit Gerti Rohrmoser\, Diakoniegottesdienst
LOCATION:
DESCRIPTION:[caption id=\"attachment_2250\" align=\"alignnone\" width=\"300\"] Gerti Rohrmoser[/caption] mit Gerti Rohrmoser\, Diakoniegottesdienst GastgeberIn\: Ursula Kratky OrganistIn\: Juliane Schleehahn Gemeindekaffee\: Kein Gemeindekaffee &nbsp\;
END:VEVENT
END:VCALENDAR
