BEGIN:VCALENDAR
VERSION:2.0
PRODID:Imitheme.com 
BEGIN:VEVENT
UID:20260426T0100391416375626
DTSTAMP;TZID=UTC:20260426T010039
DTSTART;TZID=UTC:20261215T010000
DTEND;TZID=UTC:20261215T010000
SUMMARY:Interreligiöses Dialogtreffen / online
LOCATION:
DESCRIPTION:&nbsp\; Die MA17 Süd für Integration und Diversität ladet Sie herzlich zum Interreligiösen Dialogtreffen ein.
END:VEVENT
END:VCALENDAR
