BEGIN:VCALENDAR
VERSION:2.0
PRODID:Imitheme.com 
BEGIN:VEVENT
UID:20260426T0102261549930496
DTSTAMP;TZID=UTC:20260426T010226
DTSTART;TZID=UTC:20261215T010200
DTEND;TZID=UTC:20261215T010200
SUMMARY:Tag des Judentums - Tag des Lernens online
LOCATION:
DESCRIPTION:&nbsp\; Tag des Judentums - Tag des Lernens online Tag des Judentums - Tag des Lernens mit Michael Bollag Livestream hier… Meeting ID\: 896 0149 0692 Passcode\: Bund
END:VEVENT
END:VCALENDAR
