BEGIN:VCALENDAR
VERSION:2.0
PRODID:Imitheme.com 
BEGIN:VEVENT
UID:20260426T010108110718656
DTSTAMP;TZID=UTC:20260426T010108
DTSTART;TZID=UTC:20261215T010100
DTEND;TZID=UTC:20261215T010100
SUMMARY:Andacht von Pfr. Johannes Wittich und Mag. Robert Colditz auf der Homepage zum Israelsonntag
LOCATION:
DESCRIPTION:[caption id=\"attachment_3702\" align=\"alignleft\" width=\"225\"] Johannes Wittich[/caption] [caption id=\"attachment_1281\" align=\"alignleft\" width=\"211\"] Robert Colditz[/caption] &nbsp\; &nbsp\; &nbsp\; &nbsp\; &nbsp\; &nbsp\; &nbsp\; &nbsp\; Andacht von Pfr. Johannes Wittich und Mag. Robert Colditz auf der Homepage zum Israelsonntag &nbsp\;
END:VEVENT
END:VCALENDAR
