BEGIN:VCALENDAR
VERSION:2.0
PRODID:Imitheme.com 
BEGIN:VEVENT
UID:20260426T010109706537902
DTSTAMP;TZID=UTC:20260426T010109
DTSTART;TZID=UTC:20261215T010100
DTEND;TZID=UTC:20261215T010100
SUMMARY:Andacht von Pfr. Johannes Wittich auf der Homepage\, gleichzeitig “Kindergottesdienst to go” (Kindergottesdienst-Packerl werden mit der Post verschickt.)
LOCATION:
DESCRIPTION:[caption id=\"attachment_3702\" align=\"alignnone\" width=\"225\"] Johannes Wittich[/caption] Andacht von Pfr. Johannes Wittich auf der Homepage\, gleichzeitig “Kindergottesdienst to go” (Kindergottesdienst-Packerl werden mit der Post verschickt.) &nbsp\;
END:VEVENT
END:VCALENDAR
