BEGIN:VCALENDAR
VERSION:2.0
PRODID:Imitheme.com 
BEGIN:VEVENT
UID:20260426T0101101183553859
DTSTAMP;TZID=UTC:20260426T010110
DTSTART;TZID=UTC:20261215T010100
DTEND;TZID=UTC:20261215T010100
SUMMARY:Ungarische Bibelstunde / online
LOCATION:
DESCRIPTION:Wenn es die geltenden Covid-19-Verordnung erlaubt\, treffen wir uns mit Pfr. Károly Nagy\, unter Einhaltung alle Vorschriften\, im Gemeindesaal. Wenn ein persönliches Treffen nicht erlaubt ist\, findet die Bibelstunde telefonisch statt. &nbsp\; &nbsp\;
END:VEVENT
END:VCALENDAR
