BEGIN:VCALENDAR
VERSION:2.0
PRODID:Imitheme.com 
BEGIN:VEVENT
UID:20260426T010229406875908
DTSTAMP;TZID=UTC:20260426T010229
DTSTART;TZID=UTC:20261215T010200
DTEND;TZID=UTC:20261215T010200
SUMMARY:Ökumenischen Gottesdienst der christlichen Gemeinden in Favoriten in der Weltgebetswoche  für die Einheit der Christen / Wegen COVID-19 auf 15. Mai verschoben.
LOCATION:
DESCRIPTION:Einladung zum Ökumenischen Gottesdienst der christlichen Gemeinden in Favoriten in der Weltgebetswoche für die Einheit der Christen Voraussichtlich am Samstag\, dem 23. Jänner um 18 Uhr. Wegen COVID-19 ABGESAGT. Ersatztermin ist Samstag der 15. Mai. &nbsp\; &nbsp\;
END:VEVENT
END:VCALENDAR
