BEGIN:VCALENDAR
VERSION:2.0
PRODID:Imitheme.com 
BEGIN:VEVENT
UID:20260426T0102302015022699
DTSTAMP;TZID=UTC:20260426T010230
DTSTART;TZID=UTC:20261215T010200
DTEND;TZID=UTC:20261215T010200
SUMMARY:Penguin’s Club\, Wer ist schuld an Jesu Tod? / Online
LOCATION:
DESCRIPTION:Penguin’s Club\: / Online Thema\: Wer ist schuld an Jesu Tod? &nbsp\;
END:VEVENT
END:VCALENDAR
