BEGIN:VCALENDAR
VERSION:2.0
PRODID:Imitheme.com 
BEGIN:VEVENT
UID:20260426T0102291050156360
DTSTAMP;TZID=UTC:20260426T010229
DTSTART;TZID=UTC:20261215T010200
DTEND;TZID=UTC:20261215T010200
SUMMARY:Penguin’s Club\, Er und Ich / online
LOCATION:
DESCRIPTION:Penguin’s Club\: Thema\: Er und Ich Derzeit ist noch offen\, ob wir uns am Wielandplatz treffen oder doch eher über Videokonferenz. Dies wird aber zeitnah bekannt gegeben. &nbsp\;
END:VEVENT
END:VCALENDAR
