BEGIN:VCALENDAR
VERSION:2.0
PRODID:Imitheme.com 
BEGIN:VEVENT
UID:20260426T0102301926922968
DTSTAMP;TZID=UTC:20260426T010230
DTSTART;TZID=UTC:20261215T010200
DTEND;TZID=UTC:20261215T010200
SUMMARY:Penguin’s Club\, Ach Gott ...
LOCATION:
DESCRIPTION:Penguin’s Club\: Thema\: Ach Gott ... Derzeit ist noch offen\, ob wir uns am Wielandplatz treffen oder doch eher über Videokonferenz. Dies wird aber zeitnah bekannt gegeben.   &nbsp\;
END:VEVENT
END:VCALENDAR
