BEGIN:VCALENDAR
VERSION:2.0
PRODID:Imitheme.com 
BEGIN:VEVENT
UID:20260426T010223852032565
DTSTAMP;TZID=UTC:20260426T010223
DTSTART;TZID=UTC:20261215T010200
DTEND;TZID=UTC:20261215T010200
SUMMARY:Penguin’s Club\, Werte / online
LOCATION:
DESCRIPTION:Penguin’s Club\: Thema\: Werte Wegen COVID-19 online. &nbsp\;
END:VEVENT
END:VCALENDAR
