BEGIN:VCALENDAR
VERSION:2.0
PRODID:Imitheme.com 
BEGIN:VEVENT
UID:20260426T010115620290883
DTSTAMP;TZID=UTC:20260426T010115
DTSTART;TZID=UTC:20261215T010100
DTEND;TZID=UTC:20261215T010100
SUMMARY:Gottesdienst mit Pfr.i.R. Karl Weinberger\, Palmsonntag
LOCATION:
DESCRIPTION:[caption id=\"attachment_5360\" align=\"alignnone\" width=\"225\"] Karl Weinberger[/caption] mit Pfr.i.R. Karl Weinberger\, Palmsonntag GastgeberIn\: Franz Radner OrganistIn\: Martin Seidl Gemeindekaffee\: Kein Gemeindekaffee &nbsp\;
END:VEVENT
END:VCALENDAR
