BEGIN:VCALENDAR
VERSION:2.0
PRODID:Imitheme.com 
BEGIN:VEVENT
UID:20260426T010231743091997
DTSTAMP;TZID=UTC:20260426T010231
DTSTART;TZID=UTC:20261215T010200
DTEND;TZID=UTC:20261215T010200
SUMMARY:Besuchskreis / Wegen COVID-19 ABGESAGT.
LOCATION:
DESCRIPTION:Seien wir zuversichtlich und hoffen wir\, dass persönliche Begegnungen bis dann wieder möglich sein werden! Wegen COVID-19 ABGESAGT. \"Einmal mehr muss leider unser Treffen abgesagt werden. Wir alle sind weiterhin gefordert\, uns in Geduld und Zuversicht zu üben und noch eine hoffentlich nur mehr kleine Weile unseren Kontakt via Telefon...
END:VEVENT
END:VCALENDAR
