BEGIN:VCALENDAR
VERSION:2.0
PRODID:Imitheme.com 
BEGIN:VEVENT
UID:20260426T0051011039381816
DTSTAMP;TZID=UTC:20260426T005101
DTSTART;TZID=UTC:20261215T005100
DTEND;TZID=UTC:20261215T005100
SUMMARY:Gottesdienst mit Dr. Ulrich Körtner
LOCATION:
DESCRIPTION:mit Dr. Ulrich Körtner GastgeberIn\: Marta Dvořáková OrganistIn\: Juliane Schleehahn Gemeindekaffee\: Kein Gemeindekaffee &nbsp\;
END:VEVENT
END:VCALENDAR
