BEGIN:VCALENDAR
VERSION:2.0
PRODID:Imitheme.com 
BEGIN:VEVENT
UID:20260426T0100591086624292
DTSTAMP;TZID=UTC:20260426T010059
DTSTART;TZID=UTC:20261215T010000
DTEND;TZID=UTC:20261215T010000
SUMMARY:Gottesdienst mit Pfrin. Naemi Schmit-Stutz\, gleichzeitig “Kindergottesdienst to go” (Kindergottesdienst-Packerl werden mit der Post verschickt.)
LOCATION:
DESCRIPTION:mit Pfrin. Naemi Schmit-Stutz\, gleichzeitig \"Kindergottesdienst to go\" (Kindergottesdienst-Packerl werden mit der Post verschickt.) GastgeberIn\: Gerti Seper OrganistIn\: Martin Seidl Gemeindekaffee\: Kein Gemeindekaffee &nbsp\;
END:VEVENT
END:VCALENDAR
