BEGIN:VCALENDAR
VERSION:2.0
PRODID:Imitheme.com 
BEGIN:VEVENT
UID:20260426T0102231585092034
DTSTAMP;TZID=UTC:20260426T010223
DTSTART;TZID=UTC:20261215T010200
DTEND;TZID=UTC:20261215T010200
SUMMARY:Gottesdienst mit Pfr. Johannes Wittich
LOCATION:
DESCRIPTION:[caption id=\"attachment_3702\" align=\"alignnone\" width=\"225\"] Johannes Wittich[/caption] mit Pfr. Johannes Wittich GastgeberIn\: F. Radner OrganistIn\: Juliane Schleehahn Gemeindekaffee\: Kein Gemeindekaffee &nbsp\;
END:VEVENT
END:VCALENDAR
