BEGIN:VCALENDAR
VERSION:2.0
PRODID:Imitheme.com 
BEGIN:VEVENT
UID:20260426T010055506814773
DTSTAMP;TZID=UTC:20260426T010055
DTSTART;TZID=UTC:20261215T010000
DTEND;TZID=UTC:20261215T010000
SUMMARY:Andacht von Pfr. Johannes Wittich auf der Homepage
LOCATION:
DESCRIPTION:[caption id=\"attachment_3702\" align=\"alignnone\" width=\"225\"] Johannes Wittich[/caption] Andacht von Pfr. Johannes Wittich auf der Homepage &nbsp\;
END:VEVENT
END:VCALENDAR
