BEGIN:VCALENDAR
VERSION:2.0
PRODID:Imitheme.com 
BEGIN:VEVENT
UID:20260426T0102321752899777
DTSTAMP;TZID=UTC:20260426T010232
DTSTART;TZID=UTC:20261215T010200
DTEND;TZID=UTC:20261215T010200
SUMMARY:Gottesdienst mit Kindern zum Heiligen Abend über Zoom-Videokonferenz mit Pfr. Johannes Wittich
LOCATION:
DESCRIPTION:[caption id=\"attachment_3702\" align=\"alignnone\" width=\"225\"] Johannes Wittich[/caption] mit Kindern zum Heiligen Abend über Zoom-Videokonferenz mit Pfr. Johannes Wittich GastgeberIn\:  OrganistIn\:  Gemeindekaffee\: Kein Gemeindekaffee &nbsp\;
END:VEVENT
END:VCALENDAR
