BEGIN:VCALENDAR
VERSION:2.0
PRODID:Imitheme.com 
BEGIN:VEVENT
UID:20260426T010226720197756
DTSTAMP;TZID=UTC:20260426T010226
DTSTART;TZID=UTC:20261215T010200
DTEND;TZID=UTC:20261215T010200
SUMMARY:Presbyteriumssitzung / online
LOCATION:
DESCRIPTION:&nbsp\; Presbyteriumssitzung &nbsp\;
END:VEVENT
END:VCALENDAR
