BEGIN:VCALENDAR
VERSION:2.0
PRODID:Imitheme.com 
BEGIN:VEVENT
UID:20260425T233630384925423
DTSTAMP;TZID=UTC:20260425T233630
DTSTART;TZID=UTC:20261215T233600
DTEND;TZID=UTC:20261215T233600
SUMMARY:Elektronische Andacht mit Pfr. Johannes Wittich\, zum Beginn des Advents über ZOOM
LOCATION:
DESCRIPTION:[caption id=\"attachment_3702\" align=\"alignnone\" width=\"225\"] Johannes Wittich[/caption] Elektronische Andacht mit Pfr. Johannes Wittich\, via ZOOM zum Beginn des Advents. Bitte bei Pfr. Johannes Wittich johannes.wittich@evang.at anmelden! Zoom-Link zum Mitfeiern wird dann per Email zugeschickt. Herzliche Einladung! &nbsp\;
END:VEVENT
END:VCALENDAR
