BEGIN:VCALENDAR
VERSION:2.0
PRODID:Imitheme.com 
BEGIN:VEVENT
UID:20260425T2326301191298696
DTSTAMP;TZID=UTC:20260425T232630
DTSTART;TZID=UTC:20261215T232600
DTEND;TZID=UTC:20261215T232600
SUMMARY:Presbyteriumssitzung / online
LOCATION:
DESCRIPTION:&nbsp\; Presbyteriumssitzung &nbsp\;
END:VEVENT
END:VCALENDAR
