BEGIN:VCALENDAR
VERSION:2.0
PRODID:Imitheme.com 
BEGIN:VEVENT
UID:20260425T2334091981396772
DTSTAMP;TZID=UTC:20260425T233409
DTSTART;TZID=UTC:20261215T233400
DTEND;TZID=UTC:20261215T233400
SUMMARY:Interreligiöses ZOOM Dialogtreffen
LOCATION:
DESCRIPTION:&nbsp\; &nbsp\; &nbsp\; Die MA17 Süd für Integration und Diversität ladet Sie herzlich zum Interreligiösen Dialogtreffen ein. Aufgrund aktueller Ereignisse – Randale/Übergriff in der Kirche „St. Anton von Padua“ am Antonsplatz und Absage der geplanten Gedenkveranstaltung – lade ich herzlich zu einem virtuellen Treffen ein. Interreligiöses ZOOM Dialogtreffen Ing. Stefan...
END:VEVENT
END:VCALENDAR
