BEGIN:VCALENDAR
VERSION:2.0
PRODID:Imitheme.com 
BEGIN:VEVENT
UID:20260425T2326371680647152
DTSTAMP;TZID=UTC:20260425T232637
DTSTART;TZID=UTC:20261215T232600
DTEND;TZID=UTC:20261215T232600
SUMMARY:Reformationsempfang der Evangelischen Kirchen in Österreich 2020
LOCATION:
DESCRIPTION:[caption id=\"attachment_7933\" align=\"aligncenter\" width=\"605\"] Quelle\: Evangelischen Kirchen in Österreich[/caption] Heuer ist vieles anders – auch der Reformationsempfang der Evangelischen Kirchen in Österreich. Wegen Corona kann er 2020 nur mit einem deutlich kleineren Publikum begangen werden und der gastliche Teil muss ganz entfallen. Um aber möglichst vielen Menschen zu ermöglichen\, ein...
END:VEVENT
END:VCALENDAR
