BEGIN:VCALENDAR
VERSION:2.0
PRODID:Imitheme.com 
BEGIN:VEVENT
UID:20260425T2337591004021189
DTSTAMP;TZID=UTC:20260425T233759
DTSTART;TZID=UTC:20261215T233700
DTEND;TZID=UTC:20261215T233700
SUMMARY:Musik am 12ten
LOCATION:
DESCRIPTION:Musik am 12ten Ensemble LUX – Neue Klänge wer\: Louise Chisson – Violine Thomas Wally – Violine Nora Romanoff-Schwarzberg – Viola Mara Achleitner – Violoncello was\: Alban Berg\: Lyrische Suite Lotta Wennäkoski\: Culla d\'aria Thomas Wally\: Capriccio (III) giocoso\, crudele e un poco amabile Bent Sørensen\: Adieu – String quartet...
END:VEVENT
END:VCALENDAR
