BEGIN:VCALENDAR
VERSION:2.0
PRODID:Imitheme.com 
BEGIN:VEVENT
UID:20260425T2337331555829258
DTSTAMP;TZID=UTC:20260425T233733
DTSTART;TZID=UTC:20261215T233700
DTEND;TZID=UTC:20261215T233700
SUMMARY:Alternatives Glaubensgespräch – Zweifeln und Glauben / Wegen COVID-19 ABGESAGT.
LOCATION:
DESCRIPTION:Alternatives Glaubensgespräch – Zweifeln und Glauben Wegen COVID-19 ABGESAGT. &nbsp\;
END:VEVENT
END:VCALENDAR
