BEGIN:VCALENDAR
VERSION:2.0
PRODID:Imitheme.com 
BEGIN:VEVENT
UID:20260425T2327471480959851
DTSTAMP;TZID=UTC:20260425T232747
DTSTART;TZID=UTC:20261215T232700
DTEND;TZID=UTC:20261215T232700
SUMMARY:Taizégebet
LOCATION:
DESCRIPTION:Taizégebet &nbsp\;
END:VEVENT
END:VCALENDAR
