BEGIN:VCALENDAR
VERSION:2.0
PRODID:Imitheme.com 
BEGIN:VEVENT
UID:20260425T2339071882442872
DTSTAMP;TZID=UTC:20260425T233907
DTSTART;TZID=UTC:20261215T233900
DTEND;TZID=UTC:20261215T233900
SUMMARY:ÖRKÖ Gottesdienst zum Tag des Judentums per Livestream
LOCATION:
DESCRIPTION:&nbsp\; ÖRKÖ Gottesdienst zum Tag des Judentums per Livestream Tag des Feierns in der Anglikanische Kirche\, ÖRKÖ Ökumenischer Gottesdienst zum Tag des Judentums. Livestream hier… Meeting ID\: 808 226 2476 &nbsp\; Der Herr spricht\: „Seht\, hier ist mein Diener\, zu dem ich stehe. Ihn habe ich auserwählt\, und ich freue...
END:VEVENT
END:VCALENDAR
