BEGIN:VCALENDAR
VERSION:2.0
PRODID:Imitheme.com 
BEGIN:VEVENT
UID:20260425T2339071585413695
DTSTAMP;TZID=UTC:20260425T233907
DTSTART;TZID=UTC:20261215T233900
DTEND;TZID=UTC:20261215T233900
SUMMARY:Adventandacht für SeniorInnen
LOCATION:
DESCRIPTION:[caption id=\"attachment_7864\" align=\"alignleft\" width=\"300\"] Foto\: Pixabay[/caption] &nbsp\; Einladung zur Adventandacht für SeniorInnen Wir laden Sie zu einen besinnlichen Adventandacht mit Musik und Geschichten ein. Bitte beachten Sie\, dass die geltenden Corona Maßnahmen einzuhalten sind. Das bedeutet\, dass wir im Gemeindesaal Tische und Sessel den Vorgaben gemäß aufstellen müssen. Daher ersuchen...
END:VEVENT
END:VCALENDAR
