BEGIN:VCALENDAR
VERSION:2.0
PRODID:Imitheme.com 
BEGIN:VEVENT
UID:20260425T2326381697658275
DTSTAMP;TZID=UTC:20260425T232638
DTSTART;TZID=UTC:20261215T232600
DTEND;TZID=UTC:20261215T232600
SUMMARY:Pensionistenrunde / Wegen COVID-19 ABGESAGT.
LOCATION:
DESCRIPTION:[caption id=\"attachment_7864\" align=\"alignleft\" width=\"300\"] Foto\: Pixabay[/caption] &nbsp\;  Einladung zur Pensionistenrunde  Wegen COVID-19 ABGESAGT. Wir laden Sie ein im Gemeindesaal Platz zu nehmen und sich auf unser Angebot einzulassen. Bei einer Jause lässt sich gut reden\, nicht nur über Fragen und Sorgen des Alltags. Wir hören zu und helfen dort\, wo...
END:VEVENT
END:VCALENDAR
