BEGIN:VCALENDAR
VERSION:2.0
PRODID:Imitheme.com 
BEGIN:VEVENT
UID:20260425T233831132914914
DTSTAMP;TZID=UTC:20260425T233831
DTSTART;TZID=UTC:20261215T233800
DTEND;TZID=UTC:20261215T233800
SUMMARY:Penguin’s Club / online
LOCATION:
DESCRIPTION:Penguin’s Club\: Thema\: Tischtennisturnier &nbsp\;
END:VEVENT
END:VCALENDAR
