BEGIN:VCALENDAR
VERSION:2.0
PRODID:Imitheme.com 
BEGIN:VEVENT
UID:20260425T233757494286179
DTSTAMP;TZID=UTC:20260425T233757
DTSTART;TZID=UTC:20261215T233700
DTEND;TZID=UTC:20261215T233700
SUMMARY:Gottesdienst mit Pfr. Johannes Wittich\, gleichzeitig “Kindergottesdienst to go”
LOCATION:
DESCRIPTION:[caption id=\"attachment_3702\" align=\"alignnone\" width=\"225\"] Johannes Wittich[/caption] mit Pfr. Johannes Wittich\, gleichzeitig \"Kindergottesdienst to go\"  GastgeberIn\: M. Dvorakova OrganistIn\: M. Seidl Gemeindekaffee\: Kein Gemeindekaffee &nbsp\;
END:VEVENT
END:VCALENDAR
